BEGIN:VCALENDAR
VERSION:2.0
PRODID:-//Bernal Heights East Slope Design Review Board - ECPv6.15.20//NONSGML v1.0//EN
CALSCALE:GREGORIAN
METHOD:PUBLISH
X-ORIGINAL-URL:https://bhesdrb.org
X-WR-CALDESC:Events for Bernal Heights East Slope Design Review Board
REFRESH-INTERVAL;VALUE=DURATION:PT1H
X-Robots-Tag:noindex
X-PUBLISHED-TTL:PT1H
BEGIN:VTIMEZONE
TZID:America/Los_Angeles
BEGIN:DAYLIGHT
TZOFFSETFROM:-0800
TZOFFSETTO:-0700
TZNAME:PDT
DTSTART:20220313T100000
END:DAYLIGHT
BEGIN:STANDARD
TZOFFSETFROM:-0700
TZOFFSETTO:-0800
TZNAME:PST
DTSTART:20221106T090000
END:STANDARD
BEGIN:DAYLIGHT
TZOFFSETFROM:-0800
TZOFFSETTO:-0700
TZNAME:PDT
DTSTART:20230312T100000
END:DAYLIGHT
BEGIN:STANDARD
TZOFFSETFROM:-0700
TZOFFSETTO:-0800
TZNAME:PST
DTSTART:20231105T090000
END:STANDARD
BEGIN:DAYLIGHT
TZOFFSETFROM:-0800
TZOFFSETTO:-0700
TZNAME:PDT
DTSTART:20240310T100000
END:DAYLIGHT
BEGIN:STANDARD
TZOFFSETFROM:-0700
TZOFFSETTO:-0800
TZNAME:PST
DTSTART:20241103T090000
END:STANDARD
END:VTIMEZONE
BEGIN:VEVENT
DTSTART;TZID=America/Los_Angeles:20230119T190000
DTEND;TZID=America/Los_Angeles:20230119T200000
DTSTAMP:20260425T083420
CREATED:20230105T001451Z
LAST-MODIFIED:20230105T001451Z
UID:679-1674154800-1674158400@bhesdrb.org
SUMMARY:BHESDRB Election — Thursday\, January 19\, 2023
DESCRIPTION:All residents of the east slope of Bernal Heights\nare invited to attend this virtual meeting\nto elect new members to the Board.\n \nThursday\, January 19\, 2023\n7:00 to 8:00 pm \nTo attend the Zoom meeting click on the link:\nhttps://tinyurl.com/bhesdrb-election-1-19-23\nMeeting ID: 817 9541 1174      Passcode: 496463\nPlease sign on 5 minutes early\, so we can begin the meeting promptly. \nSelf-nominations are welcome.\nTerms of office are two years. Meetings are held the first and third Thursday of the month as needed. Until further notice\, the meetings are virtual via Zoom. \nThe BHESDRB is a recognized step in the planning process for the Special Use District of the East Slope of Bernal Heights. The BHESDRB serves in an advisory capacity to the San Francisco Planning Department’s process of review and approval of construction plans for new and existing residential buildings in the East Slope of Bernal Heights. The Board reviews projects in light of the  Bernal Heights East Slope Building Guidelines . The intent of the guidelines is to encourage property owners to develop their properties and create their homes in a way to preserve and enhance the qualities special to this neighborhood.
URL:https://bhesdrb.org/calendar/bhesdrb-election-thursday-january-19-2023-2/
LOCATION:Virtual Meeting
END:VEVENT
END:VCALENDAR