BEGIN:VCALENDAR
VERSION:2.0
PRODID:-//Bernal Heights East Slope Design Review Board - ECPv6.15.20//NONSGML v1.0//EN
CALSCALE:GREGORIAN
METHOD:PUBLISH
X-WR-CALNAME:Bernal Heights East Slope Design Review Board
X-ORIGINAL-URL:https://bhesdrb.org
X-WR-CALDESC:Events for Bernal Heights East Slope Design Review Board
REFRESH-INTERVAL;VALUE=DURATION:PT1H
X-Robots-Tag:noindex
X-PUBLISHED-TTL:PT1H
BEGIN:VTIMEZONE
TZID:America/Los_Angeles
BEGIN:DAYLIGHT
TZOFFSETFROM:-0800
TZOFFSETTO:-0700
TZNAME:PDT
DTSTART:20210314T100000
END:DAYLIGHT
BEGIN:STANDARD
TZOFFSETFROM:-0700
TZOFFSETTO:-0800
TZNAME:PST
DTSTART:20211107T090000
END:STANDARD
BEGIN:DAYLIGHT
TZOFFSETFROM:-0800
TZOFFSETTO:-0700
TZNAME:PDT
DTSTART:20220313T100000
END:DAYLIGHT
BEGIN:STANDARD
TZOFFSETFROM:-0700
TZOFFSETTO:-0800
TZNAME:PST
DTSTART:20221106T090000
END:STANDARD
BEGIN:DAYLIGHT
TZOFFSETFROM:-0800
TZOFFSETTO:-0700
TZNAME:PDT
DTSTART:20230312T100000
END:DAYLIGHT
BEGIN:STANDARD
TZOFFSETFROM:-0700
TZOFFSETTO:-0800
TZNAME:PST
DTSTART:20231105T090000
END:STANDARD
END:VTIMEZONE
BEGIN:VEVENT
DTSTART;TZID=America/Los_Angeles:20221215T190000
DTEND;TZID=America/Los_Angeles:20221215T200000
DTSTAMP:20260425T111816
CREATED:20221214T014344Z
LAST-MODIFIED:20230113T235051Z
UID:639-1671130800-1671134400@bhesdrb.org
SUMMARY:Project Review — 1619-21 York Street\, Thursday\, 12/15/22
DESCRIPTION:Neighbors are invited to a Zoom meeting to view plans for renovation and remodel of the 2-unit building and garage at\n1619 / 1621 York Street\n \nThursday\, December 15\, 2022\n7 pm\nClick here\nto view the letter the Board sent to the Project Sponsor\nin response to the presentation on 12/15/22
URL:https://bhesdrb.org/calendar/project-review-1619-21-york-street-thursday-12-15-22/
LOCATION:Virtual Meeting
END:VEVENT
END:VCALENDAR