BEGIN:VCALENDAR
VERSION:2.0
PRODID:-//Bernal Heights East Slope Design Review Board - ECPv6.15.20//NONSGML v1.0//EN
CALSCALE:GREGORIAN
METHOD:PUBLISH
X-WR-CALNAME:Bernal Heights East Slope Design Review Board
X-ORIGINAL-URL:https://bhesdrb.org
X-WR-CALDESC:Events for Bernal Heights East Slope Design Review Board
REFRESH-INTERVAL;VALUE=DURATION:PT1H
X-Robots-Tag:noindex
X-PUBLISHED-TTL:PT1H
BEGIN:VTIMEZONE
TZID:America/Los_Angeles
BEGIN:DAYLIGHT
TZOFFSETFROM:-0800
TZOFFSETTO:-0700
TZNAME:PDT
DTSTART:20210314T100000
END:DAYLIGHT
BEGIN:STANDARD
TZOFFSETFROM:-0700
TZOFFSETTO:-0800
TZNAME:PST
DTSTART:20211107T090000
END:STANDARD
BEGIN:DAYLIGHT
TZOFFSETFROM:-0800
TZOFFSETTO:-0700
TZNAME:PDT
DTSTART:20220313T100000
END:DAYLIGHT
BEGIN:STANDARD
TZOFFSETFROM:-0700
TZOFFSETTO:-0800
TZNAME:PST
DTSTART:20221106T090000
END:STANDARD
BEGIN:DAYLIGHT
TZOFFSETFROM:-0800
TZOFFSETTO:-0700
TZNAME:PDT
DTSTART:20230312T100000
END:DAYLIGHT
BEGIN:STANDARD
TZOFFSETFROM:-0700
TZOFFSETTO:-0800
TZNAME:PST
DTSTART:20231105T090000
END:STANDARD
END:VTIMEZONE
BEGIN:VEVENT
DTSTART;TZID=America/Los_Angeles:20221201T190000
DTEND;TZID=America/Los_Angeles:20221201T200000
DTSTAMP:20260425T111816
CREATED:20221117T000424Z
LAST-MODIFIED:20230113T234811Z
UID:624-1669921200-1669924800@bhesdrb.org
SUMMARY:Project Review — 1454 Cortland Avenue\, Thursday\, 12/1/22
DESCRIPTION:Neighbors are invited to attend a Zoom Meeting\nto hear about plans for construction of\na vertical addition at\n1454 Cortland Avenue\nThursday\, December 1\, 2022\n7 pm\n\nTo view the letter the Board sent in response to the presentation\nCLICK HERE \nFor more information\, contact Annette Diniz\, architect\,\n818-521-9454 dinizannette@gmail.com  \nFor information about the meeting\, contact\nWendy Cowles\, bhesdrb@gmail.com or Anne Batmale\, 415-206-1461
URL:https://bhesdrb.org/calendar/project-review-1454-cortland-avenue-thursday-12-1-2022/
LOCATION:Virtual Meeting
END:VEVENT
END:VCALENDAR